BEGIN:VCALENDAR
VERSION:2.0
PRODID:-//Badagrasse - ECPv6.15.18//NONSGML v1.0//EN
CALSCALE:GREGORIAN
METHOD:PUBLISH
X-WR-CALNAME:Badagrasse
X-ORIGINAL-URL:https://badagrasse.com
X-WR-CALDESC:Évènements pour Badagrasse
REFRESH-INTERVAL;VALUE=DURATION:PT1H
X-Robots-Tag:noindex
X-PUBLISHED-TTL:PT1H
BEGIN:VTIMEZONE
TZID:Europe/Paris
BEGIN:DAYLIGHT
TZOFFSETFROM:+0100
TZOFFSETTO:+0200
TZNAME:CEST
DTSTART:20250330T010000
END:DAYLIGHT
BEGIN:STANDARD
TZOFFSETFROM:+0200
TZOFFSETTO:+0100
TZNAME:CET
DTSTART:20251026T010000
END:STANDARD
BEGIN:DAYLIGHT
TZOFFSETFROM:+0100
TZOFFSETTO:+0200
TZNAME:CEST
DTSTART:20260329T010000
END:DAYLIGHT
BEGIN:STANDARD
TZOFFSETFROM:+0200
TZOFFSETTO:+0100
TZNAME:CET
DTSTART:20261025T010000
END:STANDARD
BEGIN:DAYLIGHT
TZOFFSETFROM:+0100
TZOFFSETTO:+0200
TZNAME:CEST
DTSTART:20270328T010000
END:DAYLIGHT
BEGIN:STANDARD
TZOFFSETFROM:+0200
TZOFFSETTO:+0100
TZNAME:CET
DTSTART:20271031T010000
END:STANDARD
END:VTIMEZONE
BEGIN:VEVENT
DTSTART;TZID=Europe/Paris:20260302T194500
DTEND;TZID=Europe/Paris:20260302T223000
DTSTAMP:20260423T073553
CREATED:20251006T202213Z
LAST-MODIFIED:20260121T174318Z
UID:851-1772480700-1772490600@badagrasse.com
SUMMARY:Interclubs D1 : Monaco à l'extérieur
DESCRIPTION:
URL:https://badagrasse.com/event/interclub-d1-monaco-a-domicile/
LOCATION:Canteperdrix
CATEGORIES:D1,Interclubs
END:VEVENT
BEGIN:VEVENT
DTSTART;TZID=Europe/Paris:20260302T200000
DTEND;TZID=Europe/Paris:20260302T220000
DTSTAMP:20260423T073553
CREATED:20260121T175503Z
LAST-MODIFIED:20260121T175503Z
UID:931-1772481600-1772488800@badagrasse.com
SUMMARY:Interclubs D5 : Cannes à l'extérieur
DESCRIPTION:
URL:https://badagrasse.com/event/interclubs-d5-cannes-a-lexterieur/
CATEGORIES:D5,Interclubs
END:VEVENT
BEGIN:VEVENT
DTSTART;TZID=Europe/Paris:20260316T200000
DTEND;TZID=Europe/Paris:20260316T220000
DTSTAMP:20260423T073553
CREATED:20260121T175252Z
LAST-MODIFIED:20260121T175252Z
UID:927-1773691200-1773698400@badagrasse.com
SUMMARY:Interclubs D3 : Cagnes-sur-Mer à l'extérieur
DESCRIPTION:
URL:https://badagrasse.com/event/interclubs-d3-cagnes-sur-mer-a-lexterieur/
CATEGORIES:D3,Interclubs
END:VEVENT
BEGIN:VEVENT
DTSTART;TZID=Europe/Paris:20260317T193000
DTEND;TZID=Europe/Paris:20260317T223000
DTSTAMP:20260423T073553
CREATED:20260121T175533Z
LAST-MODIFIED:20260121T175533Z
UID:933-1773775800-1773786600@badagrasse.com
SUMMARY:Interclubs D5 : CBN à l'extérieur
DESCRIPTION:
URL:https://badagrasse.com/event/interclubs-d5-cbn-a-lexterieur/
CATEGORIES:D5,Interclubs
END:VEVENT
BEGIN:VEVENT
DTSTART;TZID=Europe/Paris:20260318T200000
DTEND;TZID=Europe/Paris:20260318T220000
DTSTAMP:20260423T073553
CREATED:20260121T175813Z
LAST-MODIFIED:20260121T175813Z
UID:941-1773864000-1773871200@badagrasse.com
SUMMARY:Interclubs D6 : Saint Jeannet à l'extérieur
DESCRIPTION:
URL:https://badagrasse.com/event/interclubs-d6-saint-jeannet-a-lexterieur/
CATEGORIES:D6,Interclubs
END:VEVENT
BEGIN:VEVENT
DTSTART;TZID=Europe/Paris:20260323T194500
DTEND;TZID=Europe/Paris:20260323T223000
DTSTAMP:20260423T073553
CREATED:20251006T202245Z
LAST-MODIFIED:20260121T174330Z
UID:853-1774295100-1774305000@badagrasse.com
SUMMARY:Interclubs D1 : ASPTTN à l'extérieur
DESCRIPTION:
URL:https://badagrasse.com/event/interclub-d1-aspttn-a-domicile/
LOCATION:Canteperdrix
CATEGORIES:D1,Interclubs
END:VEVENT
BEGIN:VEVENT
DTSTART;TZID=Europe/Paris:20260327T200000
DTEND;TZID=Europe/Paris:20260327T220000
DTSTAMP:20260423T073553
CREATED:20260121T175606Z
LAST-MODIFIED:20260121T175606Z
UID:935-1774641600-1774648800@badagrasse.com
SUMMARY:Interclubs D5 : Mougins à l'extérieur
DESCRIPTION:
URL:https://badagrasse.com/event/interclubs-d5-mougins-a-lexterieur/
CATEGORIES:D5,Interclubs
END:VEVENT
END:VCALENDAR